BEGIN:VCALENDAR
VERSION:2.0
PRODID:-//Pendleton High School - ECPv6.13.0//NONSGML v1.0//EN
CALSCALE:GREGORIAN
METHOD:PUBLISH
X-ORIGINAL-URL:https://hs.pendleton.k12.or.us
X-WR-CALDESC:Events for Pendleton High School
REFRESH-INTERVAL;VALUE=DURATION:PT1H
X-Robots-Tag:noindex
X-PUBLISHED-TTL:PT1H
BEGIN:VTIMEZONE
TZID:America/Los_Angeles
BEGIN:DAYLIGHT
TZOFFSETFROM:-0800
TZOFFSETTO:-0700
TZNAME:PDT
DTSTART:20230312T100000
END:DAYLIGHT
BEGIN:STANDARD
TZOFFSETFROM:-0700
TZOFFSETTO:-0800
TZNAME:PST
DTSTART:20231105T090000
END:STANDARD
END:VTIMEZONE
BEGIN:VEVENT
DTSTART;TZID=America/Los_Angeles:20230531T180000
DTEND;TZID=America/Los_Angeles:20230531T190000
DTSTAMP:20260419T164555
CREATED:20230517T175601Z
LAST-MODIFIED:20230531T181100Z
UID:10000679-1685556000-1685559600@hs.pendleton.k12.or.us
SUMMARY:Hawthorne Graduation
DESCRIPTION:Hawthorne Graduation at Hawthorne High School at 6 pm
URL:https://hs.pendleton.k12.or.us/event/hawthorne-graduation-2/
CATEGORIES:Hawthorne High School
END:VEVENT
END:VCALENDAR